BEGIN:VCALENDAR
VERSION:2.0
PRODID:SchoolNow
CALSCALE:GREGORIAN
BEGIN:VEVENT
UID:90e38e24-53ac-11f0-93a3-0afff0a82bd5
DTSTAMP:20251216T154523Z
SUMMARY:BASKETBALL-V Boys @ Timothy Christian (Game)
LOCATION:Away - Timothy Christian
URL;VALUE=URI:https://www.cusd201.org/whs/athletics/calendar/8362413/basket
 ball-v-boys-timothy-christian-game
DTSTART:20260207T013000Z
DTEND:20260207T033000Z
END:VEVENT
END:VCALENDAR
