BEGIN:VCALENDAR
VERSION:2.0
PRODID:SchoolNow
CALSCALE:GREGORIAN
BEGIN:VEVENT
UID:90e3add2-53ac-11f0-babf-0afff0a82bd5
DTSTAMP:20251216T154523Z
SUMMARY:BASKETBALL-F Boys @ Timothy Christian (Game)
LOCATION:Away - Timothy Christian
URL;VALUE=URI:https://www.cusd201.org/whs/athletics/calendar/8362415/basket
 ball-f-boys-timothy-christian-game
DTSTART:20260206T223000Z
DTEND:20260207T000000Z
END:VEVENT
END:VCALENDAR
