BEGIN:VCALENDAR
VERSION:2.0
PRODID:SchoolNow
CALSCALE:GREGORIAN
BEGIN:VEVENT
UID:dbcdffae-560a-11f0-975d-02976a36d593
DTSTAMP:20251216T154522Z
SUMMARY:SOFTBALL-V Girls - VS Trinity High School (Game)
LOCATION:HOME - Westmont HS Softball Field
URL;VALUE=URI:https://www.cusd201.org/whs/athletics/calendar/8371732/softba
 ll-v-girls-vs-trinity-high-school-game
DTSTART:20260417T213000Z
DTEND:20260417T233000Z
END:VEVENT
END:VCALENDAR
