BEGIN:VCALENDAR
VERSION:2.0
PRODID:SchoolNow
CALSCALE:GREGORIAN
BEGIN:VEVENT
UID:2e19aa0a-5b9d-11f0-8001-02e919c92f91
DTSTAMP:20251216T154523Z
SUMMARY:BASKETBALL-F Boys - VS Lisle (Game)
LOCATION:HOME - Westmont HS Gym
URL;VALUE=URI:https://www.cusd201.org/whs/athletics/calendar/8394177/basket
 ball-f-boys-vs-lisle-game
DTSTART:20260116T223000Z
DTEND:20260117T000000Z
END:VEVENT
END:VCALENDAR
