BEGIN:VCALENDAR
VERSION:2.0
PRODID:SchoolNow
CALSCALE:GREGORIAN
BEGIN:VEVENT
UID:2e19ad34-5b9d-11f0-b1a4-02e919c92f91
DTSTAMP:20251216T154523Z
SUMMARY:BASKETBALL-S Boys - VS Lisle (Game)
LOCATION:HOME - Westmont HS Gym
URL;VALUE=URI:https://www.cusd201.org/whs/athletics/calendar/8394178/basket
 ball-s-boys-vs-lisle-game
DTSTART:20260117T000000Z
DTEND:20260117T013000Z
END:VEVENT
END:VCALENDAR
