BEGIN:VCALENDAR
VERSION:2.0
PRODID:SchoolNow
CALSCALE:GREGORIAN
BEGIN:VEVENT
UID:247e9254-5c69-11f0-8bbf-0afff424d67f
DTSTAMP:20251216T154523Z
SUMMARY:VOLLEYBALL-JV Girls - VS Morton High School (East/West) (Game)
LOCATION:HOME - Westmont HS Gym
URL;VALUE=URI:https://www.cusd201.org/whs/athletics/calendar/8397492/volley
 ball-jv-girls-vs-morton-high-school-east-west-game
DTSTART:20251015T223000Z
DTEND:20251015T233000Z
END:VEVENT
END:VCALENDAR
