BEGIN:VCALENDAR
VERSION:2.0
PRODID:SchoolNow
CALSCALE:GREGORIAN
BEGIN:VEVENT
UID:247e9592-5c69-11f0-826d-0afff424d67f
DTSTAMP:20251216T154522Z
SUMMARY:VOLLEYBALL-F Girls - VS Morton High School (East/West) (Game)
LOCATION:HOME - Westmont HS Gym
URL;VALUE=URI:https://www.cusd201.org/whs/athletics/calendar/8397493/volley
 ball-f-girls-vs-morton-high-school-east-west-game
DTSTART:20251015T213000Z
DTEND:20251015T223000Z
END:VEVENT
END:VCALENDAR
