BEGIN:VCALENDAR
VERSION:2.0
PRODID:SchoolNow
CALSCALE:GREGORIAN
BEGIN:VEVENT
UID:247e96d2-5c69-11f0-b09b-0afff424d67f
DTSTAMP:20251216T154523Z
SUMMARY:TIME TBD- BASKETBALL-V Girls @ Chicago Christian Thanksgiving Tourn
 ament (Game)
LOCATION:Away - Chicago Christian Thanksgiving Tournament
URL;VALUE=URI:https://www.cusd201.org/whs/athletics/calendar/8397494/time-t
 bd-basketball-v-girls-chicago-christian-thanksgiving-tournament-game
DTSTART:20251119T060000Z
DTEND:20251120T055900Z
END:VEVENT
END:VCALENDAR
