BEGIN:VCALENDAR
VERSION:2.0
PRODID:SchoolNow
CALSCALE:GREGORIAN
BEGIN:VEVENT
UID:247e99ca-5c69-11f0-ab94-0afff424d67f
DTSTAMP:20251216T154522Z
SUMMARY:BASKETBALL-V Girls @ Chicago Christian Thanksgiving Tournament (Gam
 e)
LOCATION:Away - Chicago Christian
URL;VALUE=URI:https://www.cusd201.org/whs/athletics/calendar/8397497/basket
 ball-v-girls-chicago-christian-thanksgiving-tournament-game
DTSTART:20251122T170000Z
DTEND:20251122T190000Z
END:VEVENT
END:VCALENDAR
