BEGIN:VCALENDAR
VERSION:2.0
PRODID:SchoolNow
CALSCALE:GREGORIAN
BEGIN:VEVENT
UID:247e9ab0-5c69-11f0-931b-0afff424d67f
DTSTAMP:20251216T154522Z
SUMMARY:BASKETBALL-V Girls - VS MEET THE SENTINELS NIGHT (Game)
LOCATION:HOME - Westmont HS Gym
URL;VALUE=URI:https://www.cusd201.org/whs/athletics/calendar/8397498/basket
 ball-v-girls-vs-meet-the-sentinels-night-game
DTSTART:20251115T000000Z
DTEND:20251115T020000Z
END:VEVENT
END:VCALENDAR
