BEGIN:VCALENDAR
VERSION:2.0
PRODID:SchoolNow
CALSCALE:GREGORIAN
BEGIN:VEVENT
UID:247e9c22-5c69-11f0-b6fb-0afff424d67f
DTSTAMP:20251216T154522Z
SUMMARY:BASKETBALL-V Boys - VS MEET THE SENTINELS NIGHT (Game)
LOCATION:HOME - Westmont HS Gym
URL;VALUE=URI:https://www.cusd201.org/whs/athletics/calendar/8397499/basket
 ball-v-boys-vs-meet-the-sentinels-night-game
DTSTART:20251122T000000Z
DTEND:20251122T020000Z
END:VEVENT
END:VCALENDAR
