BEGIN:VCALENDAR
VERSION:2.0
PRODID:SchoolNow
CALSCALE:GREGORIAN
BEGIN:VEVENT
UID:8a176aca-5d34-11f0-b8b6-0a58a9feac02
DTSTAMP:20251216T154523Z
SUMMARY:SOCCER-V Boys @ Chicago Christian (Game)
LOCATION:Away - Chicago Christian
URL;VALUE=URI:https://www.cusd201.org/whs/athletics/calendar/8400900/soccer
 -v-boys-chicago-christian-game
DTSTART:20251004T150000Z
DTEND:20251004T170000Z
END:VEVENT
END:VCALENDAR
