BEGIN:VCALENDAR
VERSION:2.0
PRODID:SchoolNow
CALSCALE:GREGORIAN
BEGIN:VEVENT
UID:8a176e4e-5d34-11f0-b29c-0a58a9feac02
DTSTAMP:20251216T154522Z
SUMMARY:BASKETBALL-JV Girls - VS Lemont (Game)
LOCATION:HOME - Westmont HS Gym
URL;VALUE=URI:https://www.cusd201.org/whs/athletics/calendar/8400901/basket
 ball-jv-girls-vs-lemont-game
DTSTART:20260117T200000Z
DTEND:20260117T213000Z
END:VEVENT
END:VCALENDAR
