BEGIN:VCALENDAR
VERSION:2.0
PRODID:SchoolNow
CALSCALE:GREGORIAN
BEGIN:VEVENT
UID:8a176fa2-5d34-11f0-b2e8-0a58a9feac02
DTSTAMP:20251216T154523Z
SUMMARY:BASKETBALL-V Girls - VS Lemont (Game)
LOCATION:HOME - Westmont HS Gym
URL;VALUE=URI:https://www.cusd201.org/whs/athletics/calendar/8400902/basket
 ball-v-girls-vs-lemont-game
DTSTART:20260117T213000Z
DTEND:20260117T230000Z
END:VEVENT
END:VCALENDAR
