BEGIN:VCALENDAR
VERSION:2.0
PRODID:SchoolNow
CALSCALE:GREGORIAN
BEGIN:VEVENT
UID:8a1771be-5d34-11f0-a570-0a58a9feac02
DTSTAMP:20251216T154523Z
SUMMARY:BASKETBALL-V Girls - VS Fenton (Game)
LOCATION:HOME - Westmont HS Gym
URL;VALUE=URI:https://www.cusd201.org/whs/athletics/calendar/8400904/basket
 ball-v-girls-vs-fenton-game
DTSTART:20260113T010000Z
DTEND:20260113T030000Z
END:VEVENT
END:VCALENDAR
