BEGIN:VCALENDAR
VERSION:2.0
PRODID:SchoolNow
CALSCALE:GREGORIAN
BEGIN:VEVENT
UID:526138aa-60fd-11f0-a5b2-0a58a9feac02
DTSTAMP:20251216T154523Z
SUMMARY:BASKETBALL-V Boys - VS Lombard College Prep (Game)
LOCATION:HOME - Westmont HS Gym
URL;VALUE=URI:https://www.cusd201.org/whs/athletics/calendar/8414948/basket
 ball-v-boys-vs-lombard-college-prep-game
DTSTART:20260115T000000Z
DTEND:20260115T013000Z
END:VEVENT
END:VCALENDAR
