BEGIN:VCALENDAR
VERSION:2.0
PRODID:SchoolNow
CALSCALE:GREGORIAN
BEGIN:VEVENT
UID:5756ce8c-6130-11f0-aefc-021bf313ddab
DTSTAMP:20251216T154523Z
SUMMARY:FOOTBALL-F Boys - VS RICH TOWNSHIP (Game)
LOCATION:HOME - Westmont HS Stadium
URL;VALUE=URI:https://www.cusd201.org/whs/athletics/calendar/8415695/footba
 ll-f-boys-vs-rich-township-game
DTSTART:20251009T220000Z
DTEND:20251010T000000Z
END:VEVENT
END:VCALENDAR
