BEGIN:VCALENDAR
VERSION:2.0
PRODID:SchoolNow
CALSCALE:GREGORIAN
BEGIN:VEVENT
UID:f0a46268-68f4-11f0-8374-02c125718b03
DTSTAMP:20251216T154522Z
SUMMARY:VOLLEYBALL-V Girls @ Holy Trinity (Game)
LOCATION:Away - Holy Trinity
URL;VALUE=URI:https://www.cusd201.org/whs/athletics/calendar/8444361/volley
 ball-v-girls-holy-trinity-game
DTSTART:20251014T230000Z
DTEND:20251015T010000Z
END:VEVENT
END:VCALENDAR
