BEGIN:VCALENDAR
VERSION:2.0
PRODID:SchoolNow
CALSCALE:GREGORIAN
BEGIN:VEVENT
UID:f0a4933c-68f4-11f0-a553-02c125718b03
DTSTAMP:20251216T154523Z
SUMMARY:VOLLEYBALL-JV Girls @ Holy Trinity (Game)
LOCATION:Away - Holy Trinity
URL;VALUE=URI:https://www.cusd201.org/whs/athletics/calendar/8444362/volley
 ball-jv-girls-holy-trinity-game
DTSTART:20251014T220000Z
DTEND:20251014T230000Z
END:VEVENT
END:VCALENDAR
