BEGIN:VCALENDAR
VERSION:2.0
PRODID:SchoolNow
CALSCALE:GREGORIAN
BEGIN:VEVENT
UID:af70ee68-6e55-11f0-a32e-0a58a9feac02
DTSTAMP:20251216T154523Z
SUMMARY:VOLLEYBALL-V Girls - VS Proviso East (Game)
LOCATION:HOME - Westmont HS Gym
URL;VALUE=URI:https://www.cusd201.org/whs/athletics/calendar/8461956/volley
 ball-v-girls-vs-proviso-east-game
DTSTART:20250924T233000Z
DTEND:20250925T003000Z
END:VEVENT
END:VCALENDAR
