BEGIN:VCALENDAR
VERSION:2.0
PRODID:SchoolNow
CALSCALE:GREGORIAN
BEGIN:VEVENT
UID:8877f7ca-7251-11f0-a97a-0affc2082557
DTSTAMP:20251216T154522Z
SUMMARY:BASKETBALL-JV Boys - VS Westminster Christian (Game)
LOCATION:HOME - Westmont HS Gym
URL;VALUE=URI:https://www.cusd201.org/whs/athletics/calendar/8473831/basket
 ball-jv-boys-vs-westminster-christian-game
DTSTART:20260209T233000Z
DTEND:20260210T010000Z
END:VEVENT
END:VCALENDAR
