BEGIN:VCALENDAR
VERSION:2.0
PRODID:SchoolNow
CALSCALE:GREGORIAN
BEGIN:VEVENT
UID:8877faf4-7251-11f0-a4ab-0affc2082557
DTSTAMP:20251216T154522Z
SUMMARY:BASKETBALL-V Boys - VS Westminster Christian (Game)
LOCATION:HOME - Westmont HS Gym
URL;VALUE=URI:https://www.cusd201.org/whs/athletics/calendar/8473832/basket
 ball-v-boys-vs-westminster-christian-game
DTSTART:20260210T010000Z
DTEND:20260210T030000Z
END:VEVENT
END:VCALENDAR
