BEGIN:VCALENDAR
VERSION:2.0
PRODID:SchoolNow
CALSCALE:GREGORIAN
BEGIN:VEVENT
UID:79e469d6-7284-11f0-8bbb-02caada90685
DTSTAMP:20251216T154523Z
SUMMARY:SOFTBALL-V Girls - VS Lisle (Game)
LOCATION:HOME - Westmont HS Softball Field
URL;VALUE=URI:https://www.cusd201.org/whs/athletics/calendar/8475232/softba
 ll-v-girls-vs-lisle-game
DTSTART:20260423T213000Z
DTEND:20260423T233000Z
END:VEVENT
END:VCALENDAR
