BEGIN:VCALENDAR
VERSION:2.0
PRODID:SchoolNow
CALSCALE:GREGORIAN
BEGIN:VEVENT
UID:6c56f416-731d-11f0-a0fa-0a58a9feac02
DTSTAMP:20251216T154522Z
SUMMARY:WRESTLING-V Boys @ Walther Christian Academy (Game)
LOCATION:Away - Walther Christian Academy
URL;VALUE=URI:https://www.cusd201.org/whs/athletics/calendar/8477564/wrestl
 ing-v-boys-walther-christian-academy-game
DTSTART:20260110T150000Z
DTEND:20260110T190000Z
END:VEVENT
END:VCALENDAR
