BEGIN:VCALENDAR
VERSION:2.0
PRODID:SchoolNow
CALSCALE:GREGORIAN
BEGIN:VEVENT
UID:5c680eda-7482-11f0-be7e-0afff92c9fcb
DTSTAMP:20251216T154522Z
SUMMARY:WRESTLING-V Boys @ Northridge Prep (Game)
LOCATION:Away - Northridge Prep
URL;VALUE=URI:https://www.cusd201.org/whs/athletics/calendar/8483423/wrestl
 ing-v-boys-northridge-prep-game
DTSTART:20260109T233000Z
DTEND:20260110T013000Z
END:VEVENT
END:VCALENDAR
