BEGIN:VCALENDAR
VERSION:2.0
PRODID:SchoolNow
CALSCALE:GREGORIAN
BEGIN:VEVENT
UID:f9c3fb72-7c79-11f0-9439-0affd2a8973f
DTSTAMP:20251216T154522Z
SUMMARY:VOLLEYBALL-F Girls @ Glenbard South (Game)
LOCATION:Away - Glenbard South
URL;VALUE=URI:https://www.cusd201.org/whs/athletics/calendar/8519557/volley
 ball-f-girls-glenbard-south-game
DTSTART:20250917T223000Z
DTEND:20250918T003000Z
END:VEVENT
END:VCALENDAR
