BEGIN:VCALENDAR
VERSION:2.0
PRODID:SchoolNow
CALSCALE:GREGORIAN
BEGIN:VEVENT
UID:f2e82cde-7d45-11f0-8612-0a58a9feac02
DTSTAMP:20251216T154523Z
SUMMARY:SOCCER-JV Boys - VS East Aurora High School (Game)
LOCATION:HOME - Westmont HS Stadium
URL;VALUE=URI:https://www.cusd201.org/whs/athletics/calendar/8523060/soccer
 -jv-boys-vs-east-aurora-high-school-game
DTSTART:20251002T213000Z
DTEND:20251002T233000Z
END:VEVENT
END:VCALENDAR
