BEGIN:VCALENDAR
VERSION:2.0
PRODID:SchoolNow
CALSCALE:GREGORIAN
BEGIN:VEVENT
UID:df43e1e2-7e11-11f0-859c-0a58a9feac02
DTSTAMP:20251216T154523Z
SUMMARY:SOCCER-V Boys - VS Lombard College Prep (Game)
LOCATION:HOME - Westmont HS Stadium
URL;VALUE=URI:https://www.cusd201.org/whs/athletics/calendar/8526232/soccer
 -v-boys-vs-lombard-college-prep-game
DTSTART:20251007T220000Z
DTEND:20251008T000000Z
END:VEVENT
END:VCALENDAR
