BEGIN:VCALENDAR
VERSION:2.0
PRODID:SchoolNow
CALSCALE:GREGORIAN
BEGIN:VEVENT
UID:dbecb8e4-7edd-11f0-9299-0affd550a37f
DTSTAMP:20251216T154522Z
SUMMARY:SOCCER-JV Boys - VS Metea Valley (Game)
LOCATION:HOME - Westmont HS Stadium
URL;VALUE=URI:https://www.cusd201.org/whs/athletics/calendar/8530510/soccer
 -jv-boys-vs-metea-valley-game
DTSTART:20250918T213000Z
DTEND:20250918T233000Z
END:VEVENT
END:VCALENDAR
