BEGIN:VCALENDAR
VERSION:2.0
PRODID:SchoolNow
CALSCALE:GREGORIAN
BEGIN:VEVENT
UID:dbecbdbc-7edd-11f0-b0fc-0affd550a37f
DTSTAMP:20251216T154522Z
SUMMARY:SOCCER-JV Boys - VS Montini Catholic HS (Game)
LOCATION:HOME - Westmont HS Stadium
URL;VALUE=URI:https://www.cusd201.org/whs/athletics/calendar/8530512/soccer
 -jv-boys-vs-montini-catholic-hs-game
DTSTART:20250927T170000Z
DTEND:20250927T190000Z
END:VEVENT
END:VCALENDAR
