BEGIN:VCALENDAR
VERSION:2.0
PRODID:SchoolNow
CALSCALE:GREGORIAN
BEGIN:VEVENT
UID:ce8211d0-7f10-11f0-ab9d-0a58a9feac02
DTSTAMP:20251216T154523Z
SUMMARY:SOCCER-JV Boys - VS Cristo Rey (Game)
LOCATION:HOME - Westmont HS Stadium
URL;VALUE=URI:https://www.cusd201.org/whs/athletics/calendar/8531202/soccer
 -jv-boys-vs-cristo-rey-game
DTSTART:20251002T000000Z
DTEND:20251002T020000Z
END:VEVENT
END:VCALENDAR
