BEGIN:VCALENDAR
VERSION:2.0
PRODID:SchoolNow
CALSCALE:GREGORIAN
BEGIN:VEVENT
UID:ce82152c-7f10-11f0-a6c9-0a58a9feac02
DTSTAMP:20251216T154523Z
SUMMARY:SOCCER-JV Boys @ West Chicago High School (Game)
LOCATION:Away - West Chicago High School
URL;VALUE=URI:https://www.cusd201.org/whs/athletics/calendar/8531203/soccer
 -jv-boys-west-chicago-high-school-game
DTSTART:20250906T140000Z
DTEND:20250906T160000Z
END:VEVENT
END:VCALENDAR
