BEGIN:VCALENDAR
VERSION:2.0
PRODID:SchoolNow
CALSCALE:GREGORIAN
BEGIN:VEVENT
UID:96220a16-820d-11f0-89ae-02dd67cad557
DTSTAMP:20251216T154523Z
SUMMARY:BASEBALL-V Boys @ Harlem (Game)
LOCATION:Away - Harlem
URL;VALUE=URI:https://www.cusd201.org/whs/athletics/calendar/8542925/baseba
 ll-v-boys-harlem-game
DTSTART:20260318T213000Z
DTEND:20260318T233000Z
END:VEVENT
END:VCALENDAR
