BEGIN:VCALENDAR
VERSION:2.0
PRODID:SchoolNow
CALSCALE:GREGORIAN
BEGIN:VEVENT
UID:81666bdc-83a5-11f0-890e-027b4da1e8b9
DTSTAMP:20251216T154523Z
SUMMARY:BASEBALL-JV Boys @ Marengo (Game)
LOCATION:Away - Marengo
URL;VALUE=URI:https://www.cusd201.org/whs/athletics/calendar/8551631/baseba
 ll-jv-boys-marengo-game
DTSTART:20260327T213000Z
DTEND:20260327T233000Z
END:VEVENT
END:VCALENDAR
