BEGIN:VCALENDAR
VERSION:2.0
PRODID:SchoolNow
CALSCALE:GREGORIAN
BEGIN:VEVENT
UID:81666f56-83a5-11f0-9c1a-027b4da1e8b9
DTSTAMP:20251216T154523Z
SUMMARY:BASEBALL-V Boys @ Marengo (Game)
LOCATION:Away - Marengo
URL;VALUE=URI:https://www.cusd201.org/whs/athletics/calendar/8551632/baseba
 ll-v-boys-marengo-game
DTSTART:20260331T213000Z
DTEND:20260331T233000Z
END:VEVENT
END:VCALENDAR
