BEGIN:VCALENDAR
VERSION:2.0
PRODID:SchoolNow
CALSCALE:GREGORIAN
BEGIN:VEVENT
UID:820bb546-83d8-11f0-b1a0-0a58a9feac02
DTSTAMP:20251216T154523Z
SUMMARY:VOLLEYBALL-F Girls - VS Glenbard East (Game)
LOCATION:HOME - Westmont HS Gym
URL;VALUE=URI:https://www.cusd201.org/whs/athletics/calendar/8552539/volley
 ball-f-girls-vs-glenbard-east-game
DTSTART:20250918T213000Z
DTEND:20250918T233000Z
END:VEVENT
END:VCALENDAR
