BEGIN:VCALENDAR
VERSION:2.0
PRODID:SchoolNow
CALSCALE:GREGORIAN
BEGIN:VEVENT
UID:820be156-83d8-11f0-b0f7-0a58a9feac02
DTSTAMP:20251216T154522Z
SUMMARY:VOLLEYBALL-F Girls @ Glenbard East (Game)
LOCATION:Away - Glenbard East
URL;VALUE=URI:https://www.cusd201.org/whs/athletics/calendar/8552540/volley
 ball-f-girls-glenbard-east-game
DTSTART:20250930T223000Z
DTEND:20251001T003000Z
END:VEVENT
END:VCALENDAR
