BEGIN:VCALENDAR
VERSION:2.0
PRODID:SchoolNow
CALSCALE:GREGORIAN
BEGIN:VEVENT
UID:7b82483c-843e-11f0-8aaf-0eb52fc921d9
DTSTAMP:20251216T154522Z
SUMMARY:TRACK and FIELD-V Boys @ Naperville Central (Game)
LOCATION:Away - Naperville Central
URL;VALUE=URI:https://www.cusd201.org/whs/athletics/calendar/8554525/track-
 and-field-v-boys-naperville-central-game
DTSTART:20260204T230000Z
DTEND:20260205T010000Z
END:VEVENT
END:VCALENDAR
