BEGIN:VCALENDAR
VERSION:2.0
PRODID:SchoolNow
CALSCALE:GREGORIAN
BEGIN:VEVENT
UID:7b824ba2-843e-11f0-a01a-0eb52fc921d9
DTSTAMP:20251216T154523Z
SUMMARY:TRACK and FIELD-V Girls @ Naperville Central (Game)
LOCATION:Away - Naperville Central
URL;VALUE=URI:https://www.cusd201.org/whs/athletics/calendar/8554526/track-
 and-field-v-girls-naperville-central-game
DTSTART:20260204T230000Z
DTEND:20260205T010000Z
END:VEVENT
END:VCALENDAR
