BEGIN:VCALENDAR
VERSION:2.0
PRODID:SchoolNow
CALSCALE:GREGORIAN
BEGIN:VEVENT
UID:7b824cec-843e-11f0-a7a5-0eb52fc921d9
DTSTAMP:20251216T154522Z
SUMMARY:BASKETBALL-V Girls @ Chicago Christian (Game)
LOCATION:Away - Chicago Christian
URL;VALUE=URI:https://www.cusd201.org/whs/athletics/calendar/8554527/basket
 ball-v-girls-chicago-christian-game
DTSTART:20251203T010000Z
DTEND:20251203T030000Z
END:VEVENT
END:VCALENDAR
