BEGIN:VCALENDAR
VERSION:2.0
PRODID:SchoolNow
CALSCALE:GREGORIAN
BEGIN:VEVENT
UID:7b824e04-843e-11f0-bf62-0eb52fc921d9
DTSTAMP:20251216T154523Z
SUMMARY:BASKETBALL-JV Girls @ Chicago Christian (Game)
LOCATION:Away - Chicago Christian
URL;VALUE=URI:https://www.cusd201.org/whs/athletics/calendar/8554528/basket
 ball-jv-girls-chicago-christian-game
DTSTART:20251202T233000Z
DTEND:20251203T010000Z
END:VEVENT
END:VCALENDAR
