BEGIN:VCALENDAR
VERSION:2.0
PRODID:SchoolNow
CALSCALE:GREGORIAN
BEGIN:VEVENT
UID:7b824f12-843e-11f0-bfec-0eb52fc921d9
DTSTAMP:20251216T154523Z
SUMMARY:SOFTBALL-JV Girls - VS St. Bede (Game)
LOCATION:HOME - Westmont HS Softball Field
URL;VALUE=URI:https://www.cusd201.org/whs/athletics/calendar/8554529/softba
 ll-jv-girls-vs-st-bede-game
DTSTART:20260411T160000Z
DTEND:20260411T180000Z
END:VEVENT
END:VCALENDAR
