BEGIN:VCALENDAR
VERSION:2.0
PRODID:SchoolNow
CALSCALE:GREGORIAN
BEGIN:VEVENT
UID:7b82500c-843e-11f0-9790-0eb52fc921d9
DTSTAMP:20251216T154523Z
SUMMARY:SOFTBALL-JV Girls @ St. Bede (Game)
LOCATION:Away - St. Bede
URL;VALUE=URI:https://www.cusd201.org/whs/athletics/calendar/8554530/softba
 ll-jv-girls-st-bede-game
DTSTART:20260425T160000Z
DTEND:20260425T180000Z
END:VEVENT
END:VCALENDAR
