BEGIN:VCALENDAR
VERSION:2.0
PRODID:SchoolNow
CALSCALE:GREGORIAN
BEGIN:VEVENT
UID:46b18ef6-883a-11f0-9563-0a58a9feac02
DTSTAMP:20251216T154523Z
SUMMARY:TRACK and FIELD-JV Boys @ Oswego High School (Game)
LOCATION:Away - Oswego High School
URL;VALUE=URI:https://www.cusd201.org/whs/athletics/calendar/8571385/track-
 and-field-jv-boys-oswego-high-school-game
DTSTART:20260313T213000Z
DTEND:20260314T013000Z
END:VEVENT
END:VCALENDAR
