BEGIN:VCALENDAR
VERSION:2.0
PRODID:SchoolNow
CALSCALE:GREGORIAN
BEGIN:VEVENT
UID:37c97174-8939-11f0-bc7c-0e113f3cacf9
DTSTAMP:20251216T154523Z
SUMMARY:BASEBALL-JV Boys @ GARDNER-SOUTH WILMINGTON (Game)
LOCATION:Away - GARDNER-SOUTH WILMINGTON
URL;VALUE=URI:https://www.cusd201.org/whs/athletics/calendar/8577186/baseba
 ll-jv-boys-gardner-south-wilmington-game
DTSTART:20260515T213000Z
DTEND:20260515T233000Z
END:VEVENT
END:VCALENDAR
