BEGIN:VCALENDAR
VERSION:2.0
PRODID:SchoolNow
CALSCALE:GREGORIAN
BEGIN:VEVENT
UID:37c974e4-8939-11f0-8511-0e113f3cacf9
DTSTAMP:20251216T154522Z
SUMMARY:BASEBALL-V Boys - VS GARDNER-SOUTH WILMINGTON (Game)
LOCATION:HOME - Westmont HS Varsity Baseball Field
URL;VALUE=URI:https://www.cusd201.org/whs/athletics/calendar/8577187/baseba
 ll-v-boys-vs-gardner-south-wilmington-game
DTSTART:20260518T213000Z
DTEND:20260518T233000Z
END:VEVENT
END:VCALENDAR
