BEGIN:VCALENDAR
VERSION:2.0
PRODID:SchoolNow
CALSCALE:GREGORIAN
BEGIN:VEVENT
UID:2db130a6-8a05-11f0-9156-0a58a9feac02
DTSTAMP:20251216T154523Z
SUMMARY:SOCCER-JV Boys @ Chicago Christian (Game)
LOCATION:Away - Chicago Christian
URL;VALUE=URI:https://www.cusd201.org/whs/athletics/calendar/8582653/soccer
 -jv-boys-chicago-christian-game
DTSTART:20251004T170000Z
DTEND:20251004T190000Z
END:VEVENT
END:VCALENDAR
