BEGIN:VCALENDAR
VERSION:2.0
PRODID:SchoolNow
CALSCALE:GREGORIAN
BEGIN:VEVENT
UID:09cddfe0-8d02-11f0-ab33-0e28fb91b45f
DTSTAMP:20251216T154522Z
SUMMARY:SOFTBALL-V Girls - VS IC Catholic Prep (Game)
LOCATION:HOME - Westmont HS Softball Field
URL;VALUE=URI:https://www.cusd201.org/whs/athletics/calendar/8596630/softba
 ll-v-girls-vs-ic-catholic-prep-game
DTSTART:20260421T213000Z
DTEND:20260421T233000Z
END:VEVENT
END:VCALENDAR
