BEGIN:VCALENDAR
VERSION:2.0
PRODID:SchoolNow
CALSCALE:GREGORIAN
BEGIN:VEVENT
UID:09cde35a-8d02-11f0-928e-0e28fb91b45f
DTSTAMP:20251216T154523Z
SUMMARY:GOLF-V Boys @ IHSA Regional Championship (Game)
LOCATION:Away - Boone Creek Golf Club
URL;VALUE=URI:https://www.cusd201.org/whs/athletics/calendar/8596631/golf-v
 -boys-ihsa-regional-championship-game
DTSTART:20251001T140000Z
DTEND:20251001T200000Z
END:VEVENT
END:VCALENDAR
