BEGIN:VCALENDAR
VERSION:2.0
PRODID:SchoolNow
CALSCALE:GREGORIAN
BEGIN:VEVENT
UID:025bd428-8d35-11f0-8f60-0a58a9feac02
DTSTAMP:20251216T154522Z
SUMMARY:WRESTLING-V Boys @ GLENBARD SOUTH TOURNAMENT (Game)
LOCATION:Away - GLENBARD SOUTH TOURNAMENT
URL;VALUE=URI:https://www.cusd201.org/whs/athletics/calendar/8597675/wrestl
 ing-v-boys-glenbard-south-tournament-game
DTSTART:20251227T150000Z
DTEND:20251227T200000Z
END:VEVENT
END:VCALENDAR
